BEGIN:VCALENDAR
VERSION:2.0
PRODID:-//WSA On Display 2021 - ECPv6.15.13.1//NONSGML v1.0//EN
CALSCALE:GREGORIAN
METHOD:PUBLISH
X-ORIGINAL-URL:https://wsa-ondisplay.co.uk/2021
X-WR-CALDESC:Events for WSA On Display 2021
REFRESH-INTERVAL;VALUE=DURATION:PT1H
X-Robots-Tag:noindex
X-PUBLISHED-TTL:PT1H
BEGIN:VTIMEZONE
TZID:Europe/London
BEGIN:DAYLIGHT
TZOFFSETFROM:+0000
TZOFFSETTO:+0100
TZNAME:BST
DTSTART:20200329T010000
END:DAYLIGHT
BEGIN:STANDARD
TZOFFSETFROM:+0100
TZOFFSETTO:+0000
TZNAME:GMT
DTSTART:20201025T010000
END:STANDARD
BEGIN:DAYLIGHT
TZOFFSETFROM:+0000
TZOFFSETTO:+0100
TZNAME:BST
DTSTART:20210328T010000
END:DAYLIGHT
BEGIN:STANDARD
TZOFFSETFROM:+0100
TZOFFSETTO:+0000
TZNAME:GMT
DTSTART:20211031T010000
END:STANDARD
BEGIN:DAYLIGHT
TZOFFSETFROM:+0000
TZOFFSETTO:+0100
TZNAME:BST
DTSTART:20220327T010000
END:DAYLIGHT
BEGIN:STANDARD
TZOFFSETFROM:+0100
TZOFFSETTO:+0000
TZNAME:GMT
DTSTART:20221030T010000
END:STANDARD
END:VTIMEZONE
BEGIN:VEVENT
DTSTART;TZID=Europe/London:20210913T180000
DTEND;TZID=Europe/London:20210913T200000
DTSTAMP:20260423T020357
CREATED:20210831T152708Z
LAST-MODIFIED:20210915T104830Z
UID:10572-1631556000-1631563200@wsa-ondisplay.co.uk
SUMMARY:Architecture & Politics
DESCRIPTION:Keynote Speaker:\nZoë Berman – an architect\, university lecturer and founder of Part W – an action group founded in 2018 that campaigns for gender equality across the built environment sector. Zoë is director of Studio Berman\, has lectured extensively on design and equity\, and written for the RIBA Journal\, Blueprint magazine and Architecture Today. Zoë is writing a book profiling women who are shaping the design of cities.   \nEvening panel:\nAddressing a Diverse Future\nDesigning for the future but fail recognise its a ‘diverse’ future? How moving forward begins from addressing inclusion in practice and academia? A voice for architectural activism\, join us on this panel discussion addressing socio-political concerns and shaping the shaping future generation of designers. \nInsight will be brought to us from RIBA representative – Femi Oresanya who is the Chair of RIBA for Change\, passionate writer on Social Inequality – Sarah Osei\, Founder of organisation ‘Future Architects Front’– Charlie Edmonds & Zoë Berman herself.  \n18:00 – 18.45| Zoe Berman (Part W) Key Speaker\n18:45 – 19.00| Award Winner\n19:00 – 20.00| Panel – Addressing a Diverse Future
URL:https://wsa-ondisplay.co.uk/2021/event/architecture-politics/
CATEGORIES:Architecture and Politics
ATTACH;FMTTYPE=image/png:https://wsa-ondisplay.co.uk/2021/wp-content/uploads/sites/4/2021/08/Day-1-Banner-UPDATE.png
ORGANIZER;CN="Methila Ganasooriar":MAILTO:mganasooriar@gmail.com
END:VEVENT
BEGIN:VEVENT
DTSTART;TZID=Europe/London:20210913T120000
DTEND;TZID=Europe/London:20210913T153000
DTSTAMP:20260423T020357
CREATED:20210818T155612Z
LAST-MODIFIED:20210909T182920Z
UID:8166-1631534400-1631547000@wsa-ondisplay.co.uk
SUMMARY:'Speak' - the power of Architectural students
DESCRIPTION:The voices of young activist has proven to be effective & using this as a platform to teach on their findings; joins us to hear from FAF & INVOLVED magazine. \nFAF – It took 2 students to assemble the voices of young struggling architectural professionals across the UK – which led to making an impactful change within the RIBA System. A grassroots organisation of architectural workers and students\, FAF campaigns to end the exploitative practices that have come to define the world of architecture. \nINVOVLED Magazine – The lack of diverse voices within the profession and the limited opportunities to get heard disappointed them during their studies\, A group who felt they were misused and weren’t listened to when entering the professional life. They formed INVOLVED Magazine to give an insight into the current profession and the ways regeneration allows to maximise the true potential of Architecture.
URL:https://wsa-ondisplay.co.uk/2021/event/architectural-activism-in-the-wake-of-the-beirut-blast-guest-speaker-from-involved-magazine/
CATEGORIES:Architecture and Politics
ATTACH;FMTTYPE=image/png:https://wsa-ondisplay.co.uk/2021/wp-content/uploads/sites/4/2021/08/Day-1-Worshop-Banner-1.png
ORGANIZER;CN="Methila Ganasooriar":MAILTO:mganasooriar@gmail.com
END:VEVENT
END:VCALENDAR