BEGIN:VCALENDAR
VERSION:2.0
PRODID:-//WSA On Display 2021 - ECPv6.15.13.1//NONSGML v1.0//EN
CALSCALE:GREGORIAN
METHOD:PUBLISH
X-ORIGINAL-URL:https://wsa-ondisplay.co.uk/2021
X-WR-CALDESC:Events for WSA On Display 2021
REFRESH-INTERVAL;VALUE=DURATION:PT1H
X-Robots-Tag:noindex
X-PUBLISHED-TTL:PT1H
BEGIN:VTIMEZONE
TZID:Europe/London
BEGIN:DAYLIGHT
TZOFFSETFROM:+0000
TZOFFSETTO:+0100
TZNAME:BST
DTSTART:20200329T010000
END:DAYLIGHT
BEGIN:STANDARD
TZOFFSETFROM:+0100
TZOFFSETTO:+0000
TZNAME:GMT
DTSTART:20201025T010000
END:STANDARD
BEGIN:DAYLIGHT
TZOFFSETFROM:+0000
TZOFFSETTO:+0100
TZNAME:BST
DTSTART:20210328T010000
END:DAYLIGHT
BEGIN:STANDARD
TZOFFSETFROM:+0100
TZOFFSETTO:+0000
TZNAME:GMT
DTSTART:20211031T010000
END:STANDARD
BEGIN:DAYLIGHT
TZOFFSETFROM:+0000
TZOFFSETTO:+0100
TZNAME:BST
DTSTART:20220327T010000
END:DAYLIGHT
BEGIN:STANDARD
TZOFFSETFROM:+0100
TZOFFSETTO:+0000
TZNAME:GMT
DTSTART:20221030T010000
END:STANDARD
END:VTIMEZONE
BEGIN:VEVENT
DTSTART;TZID=Europe/London:20210914T180000
DTEND;TZID=Europe/London:20210914T204500
DTSTAMP:20260422T225707
CREATED:20210831T142923Z
LAST-MODIFIED:20210910T100042Z
UID:10561-1631642400-1631652300@wsa-ondisplay.co.uk
SUMMARY:Urbanism & Community
DESCRIPTION:18:00 | Sarah Featherstone Key Speaker  \n20:15 | Panel on Decentralization and loss of talent in Wales – Are we all just Hypocrites?
URL:https://wsa-ondisplay.co.uk/2021/event/urbanism-community/
CATEGORIES:Urbanism and Community
ATTACH;FMTTYPE=image/jpeg:https://wsa-ondisplay.co.uk/2021/wp-content/uploads/sites/4/2021/08/Day-2-Banner-2-scaled.jpg
ORGANIZER;CN="Rory Flatt":MAILTO:rory.flatt@icloud.com
END:VEVENT
BEGIN:VEVENT
DTSTART;TZID=Europe/London:20210914T120000
DTEND;TZID=Europe/London:20210914T130000
DTSTAMP:20260422T225707
CREATED:20210819T134837Z
LAST-MODIFIED:20210912T104053Z
UID:8230-1631620800-1631624400@wsa-ondisplay.co.uk
SUMMARY:The Future of Urbanisation - Debate
DESCRIPTION:The workshop will cover the rapid urbanisation around us and how often new developments should be situated in urban or rural landscapes. The debate will look to cover the significance of urbanisation\, sustainability\, pollution\, developments\, resources. Guest speaker Dr. Rutul Joshi\, an associate professor at the ‘Faculty of Planning’ and the ‘Head of Doctoral Office’ at CEPT University\, will be helping run the debate.
URL:https://wsa-ondisplay.co.uk/2021/event/the-future-of-urbanisation-debate/
CATEGORIES:Urbanism and Community
ATTACH;FMTTYPE=image/jpeg:https://wsa-ondisplay.co.uk/2021/wp-content/uploads/sites/4/2021/08/Day-2-Poster-JPEG-scaled.jpg
ORGANIZER;CN="Snigdha Khurana":MAILTO:wsastudentexhibition@cardiff.ac.uk
END:VEVENT
END:VCALENDAR